BEGIN:VCALENDAR
VERSION:2.0
PRODID:-//tiags64 - ECPv6.11.2.1//NONSGML v1.0//EN
CALSCALE:GREGORIAN
METHOD:PUBLISH
X-ORIGINAL-URL:https://tiags64.fr
X-WR-CALDESC:Évènements pour tiags64
REFRESH-INTERVAL;VALUE=DURATION:PT1H
X-Robots-Tag:noindex
X-PUBLISHED-TTL:PT1H
BEGIN:VTIMEZONE
TZID:Europe/Paris
BEGIN:DAYLIGHT
TZOFFSETFROM:+0100
TZOFFSETTO:+0200
TZNAME:CEST
DTSTART:20230326T010000
END:DAYLIGHT
BEGIN:STANDARD
TZOFFSETFROM:+0200
TZOFFSETTO:+0100
TZNAME:CET
DTSTART:20231029T010000
END:STANDARD
END:VTIMEZONE
BEGIN:VEVENT
DTSTART;TZID=Europe/Paris:20230930T140000
DTEND;TZID=Europe/Paris:20231001T010000
DTSTAMP:20260421T135035
CREATED:20230830T123128Z
LAST-MODIFIED:20230830T123408Z
UID:4990-1696082400-1696122000@tiags64.fr
SUMMARY:Les daxton's country fêtent leurs 20 ans à Dax (40)
DESCRIPTION:Bonjour à tous\,\n\nVoici la playlist du bal des SAILOR STEP du 30 septembre prochain.\n\nLes packs « JOURNEE COMPLETE » à 35 € et « Apéritif-dinatoire-bal » à 25 € soumis à réservation ne seront disponibles que quelques jours…\n\nLe stage d’Arnaud MARRAFFA et le Bal-concert des SAILOR STEP restent proposés sans réservation.\n\n\nA très bientôt\n\nBrigitte\n\n\n                              \n\n\nLien affiche :\nLien playlist :
URL:https://tiags64.fr/event/les-daxtons-country-fetent-leurs-20-ans-a-dax-40/
LOCATION:Salle omnisport de l’asptt de Dax – 40088 Dax\, Salle omnisport de Dax - 40088 Dax\, Dax\, Landes\, 40088\, France
CATEGORIES:association,bal country,chorégraphe,club,concert,danse country,débutant,graillou,intermédiaire,jounrnée,novice,repas,soirée,stage
END:VEVENT
BEGIN:VEVENT
DTSTART;TZID=Europe/Paris:20231021T190000
DTEND;TZID=Europe/Paris:20231022T003000
DTSTAMP:20260421T135035
CREATED:20230929T161018Z
LAST-MODIFIED:20230929T161252Z
UID:5804-1697914800-1697934600@tiags64.fr
SUMMARY:Bal country à Sore (40)
DESCRIPTION:Bonjour à tous\,  \nProchainement les SANTIAGS DE PISSOS organisent un bal à SORE le 21 Octobre 2023. Nous vous attendons nombreux dans cette très jolie salle \nA bientôt le plaisir de danser ensemble \n  \nLes Santiags de Pissos \nAnne-Marie \n  \n     \n  \nLien affiche :\nLien playlist :
URL:https://tiags64.fr/event/bal-country-a-sore-40/
LOCATION:Salle des fêtes de Sore – 40430 Sore\, Salle des fêtes - 40430 Sore\, Sore\, Landes\, 40430\, France
CATEGORIES:association,bal country,chorégraphe,danse country,débutant,intermédiaire,novice,soirée
END:VEVENT
BEGIN:VEVENT
DTSTART;TZID=Europe/Paris:20231022T080000
DTEND;TZID=Europe/Paris:20231028T180000
DTSTAMP:20260421T135035
CREATED:20230217T124917Z
LAST-MODIFIED:20230522T122947Z
UID:3989-1697961600-1698516000@tiags64.fr
SUMMARY:Séjour country\, hôtel palas pineda à Salou (Espagne)
DESCRIPTION:Nous vous donnons RDV du 22 au 28 octobre 2023 à Salou (Espagne) ️ » src= »https://static.xx.fbcdn.net/images/emoji.php/v9/tf4/1.5/16/2600.png » style= »width: 16px ; height: 16px ; border : 0px; »>\nOrganisé par l’association KRYSTAR COUNTRY\, créé pour l’occasion\, venez passer une semaine de vacances à l’Hôtel Palas Pineda**** .\nUne seule salle afin de privilégier les rencontres et la convivialité\, rien a voir donc avec ce qu’il se faisait avant. Et surtout une équipe composée de 7 animateurs !\nVous aurez ainsi l’occasion de pouvoir apprendre aux côtés de Nadine Giroud (Rhône-Alpes)\, Isabelle Dreau (Loiret)\, Marie Christine (Morbihan)\, Christine Antrilli (Suisse)\, Sylvie Villemaux (Yvelines)\, Kiki Harley (Yvelines) et Arnaud Marraffa (Gard).\nCôté programme\, des cours le lundi\, mardi\, jeudi\, vendredi. Le mercredi c’est repos … pour vous laisser le temps de visiter les environs.\n️ » src= »https://static.xx.fbcdn.net/images/emoji.php/v9/t63/1.5/16/26a0.png » style= »width: 16px; height: 16px; border: 0px; »> ATTENTION PLACES LIMITEES ️ » src= »https://static.xx.fbcdn.net/images/emoji.php/v9/t63/1.5/16/26a0.png » style= »width: 16px; height: 16px; border: 0px; »>\nN’hésitez pas à nous contactez pour toutes informations\, téléphone et mail sont en bas de l’affiche.\n\n\n      \n\n\nLien affiche\nLien fiche inscription\, avant le 15 septembre 2023
URL:https://tiags64.fr/event/sejour-country-hotel-palas-pineda-a-salou-espagne/
LOCATION:Hôtel palas pineda – Salou Espagne\, Hôtel Palas Pineda - Salou Espagne\, Salou\, catalogne\, Espagne
CATEGORIES:association,bal country,chorégraphe,concert,danse country,débutant,festival,hôtel,intermédiaire,jounrnée,novice,repas,soirée,stage,voyage
ORGANIZER;CN="Krystar Country":MAILTO:Krystarcountry@gmail.com
END:VEVENT
END:VCALENDAR